BEGIN:VCALENDAR
VERSION:2.0
PRODID:-//Tukios.com/
BEGIN:VEVENT
UID:b02a7411-40bd-4a85-b86a-c9016ebc3c4d@www.feuerbornfuneral.com
DTSTAMP:20260420T231259Z
DTSTART:20260425T160000Z
DTEND:20260425T163000Z
SUMMARY:Funeral Service
DESCRIPTION:
URL:https://www.feuerbornfuneral.com/obituaries/xzavier-johnson
LOCATION:First Church of the Nazarene 1235 N. Walnut  Iola KS 66749
GEO:37.9346225;-95.4061563
END:VEVENT
END:VCALENDAR