BEGIN:VCALENDAR
VERSION:2.0
PRODID:-//Tukios.com/
BEGIN:VEVENT
UID:c1b6e012-ed4f-45d9-8f5d-157ce94d00f6@www.feuerbornfuneral.com
DTSTAMP:20260420T231145Z
DTSTART:20260425T170000Z
DTEND:20260425T171500Z
SUMMARY:Burial
DESCRIPTION:
URL:https://www.feuerbornfuneral.com/obituaries/xzavier-johnson
LOCATION:LaHarpe Cemetery ( Allen County) 111 W. 15th St  La Harpe KS 
	66751
GEO:37.9071638;-95.300633
END:VEVENT
END:VCALENDAR