BEGIN:VCALENDAR
VERSION:2.0
PRODID:-//Tukios.com/
BEGIN:VEVENT
UID:fc4ce54f-b95e-44ad-ae4c-493311714c9a@www.feuerbornfuneral.com
DTSTAMP:20260422T000645Z
DTSTART:20260710T183000Z
DTEND:20260710T190000Z
SUMMARY:Celebration of Life
DESCRIPTION:
URL:https://www.feuerbornfuneral.com/obituaries/nellie-kelley
LOCATION:Feuerborn Family Funeral Service 1883 US HWY 54  Iola KS 66749
GEO:37.9244799;-95.3999814
END:VEVENT
END:VCALENDAR