BEGIN:VCALENDAR
VERSION:2.0
PRODID:-//Tukios.com/
BEGIN:VEVENT
UID:9f003d1e-471a-4870-a0b1-62205849bf6c@www.feuerbornfuneral.com
DTSTAMP:20260422T000130Z
DTSTART:20260710T191500Z
DTEND:20260710T193000Z
SUMMARY:Burial
DESCRIPTION:
URL:https://www.feuerbornfuneral.com/obituaries/nellie-kelley
LOCATION:Highland Cemetery (Allen County) 1800 N. Cottonwood  Iola KS 
	66749
GEO:37.9384168;-95.4000012
END:VEVENT
END:VCALENDAR