BEGIN:VCALENDAR
VERSION:2.0
PRODID:-//Tukios.com/
BEGIN:VEVENT
UID:e667807d-e026-458f-82e4-6d8fe513ffe2@www.feuerbornfuneral.com
DTSTAMP:20260421T001129Z
DTSTART:20260423T230000Z
DTEND:20260423T233000Z
SUMMARY:Rosary
DESCRIPTION:
URL:https://www.feuerbornfuneral.com/obituaries/margaret-cunningham
LOCATION:St. Boniface Catholic Church 32292 NE Norton Rd  Garnett KS 
	66032
GEO:38.3067057;-95.2128143
END:VEVENT
END:VCALENDAR