BEGIN:VCALENDAR
VERSION:2.0
PRODID:-//Tukios.com/
BEGIN:VEVENT
UID:a7d92e77-d349-40cd-8b72-9ac7bce20835@www.feuerbornfuneral.com
DTSTAMP:20260421T001135Z
DTSTART:20260423T233000Z
DTEND:20260424T003000Z
SUMMARY:Visitation with Family Present
DESCRIPTION:
URL:https://www.feuerbornfuneral.com/obituaries/margaret-cunningham
LOCATION:St. Boniface Catholic Church 32292 NE Norton Rd  Garnett KS 
	66032
GEO:38.3067057;-95.2128143
END:VEVENT
END:VCALENDAR