BEGIN:VCALENDAR
VERSION:2.0
PRODID:-//Tukios.com/
BEGIN:VEVENT
UID:7cd8038b-c5ed-46b1-ac58-624a56987cf1@www.feuerbornfuneral.com
DTSTAMP:20260421T001626Z
DTSTART:20260424T153000Z
DTEND:20260424T163000Z
SUMMARY:Mass
DESCRIPTION:
URL:https://www.feuerbornfuneral.com/obituaries/margaret-cunningham
LOCATION:St. Boniface Catholic Church 32292 NE Norton Rd  Garnett KS 
	66032
GEO:38.3067057;-95.2128143
END:VEVENT
END:VCALENDAR