BEGIN:VCALENDAR
VERSION:2.0
PRODID:-//Tukios.com/
BEGIN:VEVENT
UID:b35362d6-fd9a-4130-aadb-1f13ed4fbebd@www.feuerbornfuneral.com
DTSTAMP:20260421T000919Z
DTSTART:20260424T164500Z
DTEND:20260424T171500Z
SUMMARY:Inurnment
DESCRIPTION:
URL:https://www.feuerbornfuneral.com/obituaries/margaret-cunningham
LOCATION:St. Boniface Cemetery (Anderson County) 32314 NE Norton Road  
	Garnett KS 66032
GEO:38.3067057;-95.2128143
END:VEVENT
END:VCALENDAR