BEGIN:VCALENDAR
VERSION:2.0
PRODID:-//Tukios.com/
BEGIN:VEVENT
UID:11aa3d87-8391-4e6b-85a9-ea23af6144b2@www.feuerbornfuneral.com
DTSTAMP:20260422T015609Z
DTSTART:20260424T180000Z
DTEND:20260424T190000Z
SUMMARY:Visitation with Family Present
DESCRIPTION:
URL:https://www.feuerbornfuneral.com/obituaries/guy-ellis
LOCATION:Feuerborn Family Funeral Service - Garnett 219 S. Oak  Garnett 
	KS 66032
GEO:38.2822955;-95.2424578
END:VEVENT
END:VCALENDAR