BEGIN:VCALENDAR
VERSION:2.0
PRODID:-//Tukios.com/
BEGIN:VEVENT
UID:76fa297c-db33-421d-9d63-4b9a26d235e6@www.feuerbornfuneral.com
DTSTAMP:20260422T020156Z
DTSTART:20260424T190000Z
DTEND:20260424T200000Z
SUMMARY:Funeral Service
DESCRIPTION:
URL:https://www.feuerbornfuneral.com/obituaries/guy-ellis
LOCATION:Feuerborn Family Funeral Service - Garnett 219 S. Oak  Garnett 
	KS 66032
GEO:38.2822955;-95.2424578
END:VEVENT
END:VCALENDAR