BEGIN:VCALENDAR
VERSION:2.0
PRODID:-//Tukios.com/
BEGIN:VEVENT
UID:0b158926-aa6e-4ddf-bd86-1c709dfba7f5@www.feuerbornfuneral.com
DTSTAMP:20260422T015230Z
DTSTART:20260424T203000Z
DTEND:20260424T210000Z
SUMMARY:Burial
DESCRIPTION:
URL:https://www.feuerbornfuneral.com/obituaries/guy-ellis
LOCATION:Colony Cemetery  11896 SW Jefferson Road  Colony KS 66015
GEO:38.064461;-95.3623582
END:VEVENT
END:VCALENDAR