BEGIN:VCALENDAR
VERSION:2.0
PRODID:-//Tukios.com/
BEGIN:VEVENT
UID:825aff5d-2da8-42df-8f86-82429d076df6@www.feuerbornfuneral.com
DTSTAMP:20260426T041828Z
DTSTART:20260429T153000Z
DTEND:20260429T163000Z
SUMMARY:Mass
DESCRIPTION:
URL:https://www.feuerbornfuneral.com/obituaries/deborah-wilper
LOCATION:Holy Angels Catholic Church 514 E. 4th  Garnett KS 66032
GEO:38.2806366;-95.2336442
END:VEVENT
END:VCALENDAR