BEGIN:VCALENDAR
VERSION:2.0
PRODID:-//Tukios.com/
BEGIN:VEVENT
UID:5a0ff553-772b-4bf4-bbdd-e9b1f6498575@www.feuerbornfuneral.com
DTSTAMP:20260426T042440Z
DTSTART:20260428T230000Z
DTEND:20260428T233000Z
SUMMARY:Rosary
DESCRIPTION:
URL:https://www.feuerbornfuneral.com/obituaries/deborah-wilper
LOCATION:Holy Angels Catholic Church 514 E. 4th  Garnett KS 66032
GEO:38.2806366;-95.2336442
END:VEVENT
END:VCALENDAR