BEGIN:VCALENDAR
VERSION:2.0
PRODID:-//Tukios.com/
BEGIN:VEVENT
UID:74501e90-916b-410b-9f72-ce9587c9eeea@www.feuerbornfuneral.com
DTSTAMP:20260426T042039Z
DTSTART:20260428T233000Z
DTEND:20260429T010000Z
SUMMARY:Visitation with Family Present
DESCRIPTION:
URL:https://www.feuerbornfuneral.com/obituaries/deborah-wilper
LOCATION:Holy Angels Catholic Church 514 E. 4th  Garnett KS 66032
GEO:38.2806366;-95.2336442
END:VEVENT
END:VCALENDAR