BEGIN:VCALENDAR
VERSION:2.0
PRODID:-//Tukios.com/
BEGIN:VEVENT
UID:5cf53300-90ba-4621-9e8e-56cd9c97a823@www.feuerbornfuneral.com
DTSTAMP:20260425T002527Z
DTSTART:20260430T230000Z
DTEND:20260501T010000Z
SUMMARY:Visitation with Family Present
DESCRIPTION:
URL:https://www.feuerbornfuneral.com/obituaries/dana-peters
LOCATION:The Venue 1883 US Highway 54  Iola KS 66749
GEO:37.9216811;-95.3650479
END:VEVENT
END:VCALENDAR