BEGIN:VCALENDAR
VERSION:2.0
PRODID:-//Tukios.com/
BEGIN:VEVENT
UID:f0a6159b-06ce-4e92-b581-1c9defec0b5b@www.feuerbornfuneral.com
DTSTAMP:20260425T002816Z
DTSTART:20260501T190000Z
DTEND:20260501T193000Z
SUMMARY:Celebration of Life
DESCRIPTION:
URL:https://www.feuerbornfuneral.com/obituaries/dana-peters
LOCATION:Feuerborn Family Funeral Service - Iola 1883 US Highway 54  Iola 
	KS 66749
GEO:37.9216811;-95.3650479
END:VEVENT
END:VCALENDAR