BEGIN:VCALENDAR
VERSION:2.0
PRODID:-//Tukios.com/
BEGIN:VEVENT
UID:1cc86f60-0c1f-4c08-bef9-b1a946c1349b@www.feuerbornfuneral.com
DTSTAMP:20260425T003101Z
DTSTART:20260501T200000Z
DTEND:20260501T201500Z
SUMMARY:Burial
DESCRIPTION:
URL:https://www.feuerbornfuneral.com/obituaries/dana-peters
LOCATION:Mount Hope Cemetery (Allen County) 1282 Hawaii Road  Humboldt KS 
	66748
GEO:37.8202086;-95.4231564
END:VEVENT
END:VCALENDAR