BEGIN:VCALENDAR
VERSION:2.0
PRODID:-//Tukios.com/
BEGIN:VEVENT
UID:3b604f38-0fe2-4934-8b98-5924315bd5a0@www.feuerbornfuneral.com
DTSTAMP:20260421T205839Z
DTSTART:20260423T220000Z
DTEND:20260424T000000Z
SUMMARY:Visitation with Family Present
DESCRIPTION:
URL:https://www.feuerbornfuneral.com/obituaries/cooper-schmidt
LOCATION:The Venue 1883 US Highway 54  Iola KS 66749
GEO:37.9216811;-95.3650479
END:VEVENT
END:VCALENDAR