BEGIN:VCALENDAR
VERSION:2.0
PRODID:-//Tukios.com/
BEGIN:VEVENT
UID:f19e25f7-c964-4701-b103-8b3e4b0e7b16@www.feuerbornfuneral.com
DTSTAMP:20260421T210507Z
DTSTART:20260424T150000Z
DTEND:20260424T160000Z
SUMMARY:Memorial Service
DESCRIPTION:
URL:https://www.feuerbornfuneral.com/obituaries/cooper-schmidt
LOCATION:Harvest Baptist Church 2001 North State Street  Iola KS 66749
GEO:37.9401594;-95.408182
END:VEVENT
END:VCALENDAR