BEGIN:VCALENDAR
VERSION:2.0
PRODID:-//Tukios.com/
BEGIN:VEVENT
UID:edc196ab-f232-4644-a356-8354bc23945f@www.feuerbornfuneral.com
DTSTAMP:20260421T010902Z
DTSTART:20260426T200000Z
DTEND:20260426T220000Z
SUMMARY:Visitation with Family Present
DESCRIPTION:
URL:https://www.feuerbornfuneral.com/obituaries/charles-perkins
LOCATION:The Venue 1883 US Highway 54  Iola KS 66749
GEO:37.9216811;-95.3650479
END:VEVENT
END:VCALENDAR