BEGIN:VCALENDAR
VERSION:2.0
PRODID:-//Tukios.com/
BEGIN:VEVENT
UID:db96f020-bde6-4ea6-b4c2-c782ba263fea@www.feuerbornfuneral.com
DTSTAMP:20260421T010841Z
DTSTART:20260427T160000Z
DTEND:20260427T163000Z
SUMMARY:Memorial Service
DESCRIPTION:
URL:https://www.feuerbornfuneral.com/obituaries/charles-perkins
LOCATION:Chapel 1883 US Highway 54  Iola KS 66749
GEO:37.9216811;-95.3650479
END:VEVENT
END:VCALENDAR