BEGIN:VCALENDAR
VERSION:2.0
PRODID:-//Tukios.com/
BEGIN:VEVENT
UID:bb064ef7-051a-4f83-a071-bcafefba3e17@www.feuerbornfuneral.com
DTSTAMP:20260421T011200Z
DTSTART:20260427T164500Z
DTEND:20260427T170000Z
SUMMARY:Inurnment
DESCRIPTION:
URL:https://www.feuerbornfuneral.com/obituaries/charles-perkins
LOCATION:Gas City Cemetery 1386 2200 Street  Iola KS 66749
GEO:37.9599544;-95.4149003
END:VEVENT
END:VCALENDAR